BEGIN:VCALENDAR
VERSION:2.0
PRODID:-//agra Messepark Leipzig - ECPv6.15.20//NONSGML v1.0//EN
CALSCALE:GREGORIAN
METHOD:PUBLISH
X-WR-CALNAME:agra Messepark Leipzig
X-ORIGINAL-URL:https://agramessepark.de
X-WR-CALDESC:Veranstaltungen für agra Messepark Leipzig
REFRESH-INTERVAL;VALUE=DURATION:PT1H
X-Robots-Tag:noindex
X-PUBLISHED-TTL:PT1H
BEGIN:VTIMEZONE
TZID:Europe/Berlin
BEGIN:DAYLIGHT
TZOFFSETFROM:+0100
TZOFFSETTO:+0200
TZNAME:CEST
DTSTART:20250330T010000
END:DAYLIGHT
BEGIN:STANDARD
TZOFFSETFROM:+0200
TZOFFSETTO:+0100
TZNAME:CET
DTSTART:20251026T010000
END:STANDARD
BEGIN:DAYLIGHT
TZOFFSETFROM:+0100
TZOFFSETTO:+0200
TZNAME:CEST
DTSTART:20260329T010000
END:DAYLIGHT
BEGIN:STANDARD
TZOFFSETFROM:+0200
TZOFFSETTO:+0100
TZNAME:CET
DTSTART:20261025T010000
END:STANDARD
BEGIN:DAYLIGHT
TZOFFSETFROM:+0100
TZOFFSETTO:+0200
TZNAME:CEST
DTSTART:20270328T010000
END:DAYLIGHT
BEGIN:STANDARD
TZOFFSETFROM:+0200
TZOFFSETTO:+0100
TZNAME:CET
DTSTART:20271031T010000
END:STANDARD
END:VTIMEZONE
BEGIN:VEVENT
DTSTART;TZID=Europe/Berlin:20260918T140000
DTEND;TZID=Europe/Berlin:20260918T220000
DTSTAMP:20260421T201618
CREATED:20260417T214629Z
LAST-MODIFIED:20260418T003340Z
UID:10000096-1789740000-1789768800@agramessepark.de
SUMMARY:NEXUS - Nerd Rock Festival 2026
DESCRIPTION:  \n\n\n\nDas NEXUS – Nerd Rock Festival geht in die zweite Runde!!\n🔥 Nerd/Gaming Convention trifft Rock/Metal Festival! 🤘🏻\n \nVom 18. – 20. September 2026 geht das weltweit einzige Nerd-Rock-Festival an den Start. Freut euch wie immer auf 3 Tage vollgestopft mit Rock\, Metal\, Pop Punk\, Gaming\, Cosplay\, Fantasy\, Anime\, uvm.\n \nAuch in 2026 sehen wir uns auf dem agra Messepark Leipzig!\n \nDas erwartet euch:\n🤘 +140 Gaming\, Nerd & Fantasy Aussteller\n🤘 40.000qm Festival Ground (10.000 Indoor\, 30.000 Outdoor)\n🤘 5 Bühnen (Titanium\, Heroes\, Volcano\, 2x Panel)\n🤘 +30 Bands\, Solo- & Indie-Künstler\n🤘 3.200qm voller Gaming (Indies\, P&P\, Tabletop\, Retro & mehr)\n🤘 4.000qm Mittelaltermarkt & Wasteland Area\n🤘 Merch\, Cosplay & Artist Area\n🤘 Alternative\, Rock\, Metal\, Goth Fashion Area\n🤘 New NSFW Area\n🤘 Workshops & Panels\n🤘 Cosplay Champions 2026\n🤘 Special Guests\, Signing Area\, Band Merch & vieles mehr…\n \nLet’s Rock & Game together again next Summer!!\n \nText: Veranstalter
URL:https://agramessepark.de/event/nexus-nerd-rock-festival-2026-leipzig/2026-09-18/
LOCATION:agra Messepark – Gesamtes Gelände\, Bornaische Straße 210\, Leipzig\, Sachsen\, 04279\, Germany
CATEGORIES:alle
ATTACH;FMTTYPE=image/jpeg:https://agramessepark.de/wp-content/uploads/2025/12/531684064_1072106071803925_1559956775648850807_n.jpg
ORGANIZER;CN="OFFLINE Entertainment UG":MAILTO:mail@nexo-con.de
END:VEVENT
BEGIN:VEVENT
DTSTART;TZID=Europe/Berlin:20260919T100000
DTEND;TZID=Europe/Berlin:20260919T220000
DTSTAMP:20260421T201618
CREATED:20260417T214629Z
LAST-MODIFIED:20260418T003340Z
UID:10000099-1789812000-1789855200@agramessepark.de
SUMMARY:NEXUS - Nerd Rock Festival 2026
DESCRIPTION:  \n\n\n\nDas NEXUS – Nerd Rock Festival geht in die zweite Runde!!\n🔥 Nerd/Gaming Convention trifft Rock/Metal Festival! 🤘🏻\n \nVom 18. – 20. September 2026 geht das weltweit einzige Nerd-Rock-Festival an den Start. Freut euch wie immer auf 3 Tage vollgestopft mit Rock\, Metal\, Pop Punk\, Gaming\, Cosplay\, Fantasy\, Anime\, uvm.\n \nAuch in 2026 sehen wir uns auf dem agra Messepark Leipzig!\n \nDas erwartet euch:\n🤘 +140 Gaming\, Nerd & Fantasy Aussteller\n🤘 40.000qm Festival Ground (10.000 Indoor\, 30.000 Outdoor)\n🤘 5 Bühnen (Titanium\, Heroes\, Volcano\, 2x Panel)\n🤘 +30 Bands\, Solo- & Indie-Künstler\n🤘 3.200qm voller Gaming (Indies\, P&P\, Tabletop\, Retro & mehr)\n🤘 4.000qm Mittelaltermarkt & Wasteland Area\n🤘 Merch\, Cosplay & Artist Area\n🤘 Alternative\, Rock\, Metal\, Goth Fashion Area\n🤘 New NSFW Area\n🤘 Workshops & Panels\n🤘 Cosplay Champions 2026\n🤘 Special Guests\, Signing Area\, Band Merch & vieles mehr…\n \nLet’s Rock & Game together again next Summer!!\n \nText: Veranstalter
URL:https://agramessepark.de/event/nexus-nerd-rock-festival-2026-leipzig/2026-09-19/
LOCATION:agra Messepark – Gesamtes Gelände\, Bornaische Straße 210\, Leipzig\, Sachsen\, 04279\, Germany
CATEGORIES:alle
ATTACH;FMTTYPE=image/jpeg:https://agramessepark.de/wp-content/uploads/2025/12/531684064_1072106071803925_1559956775648850807_n.jpg
ORGANIZER;CN="OFFLINE Entertainment UG":MAILTO:mail@nexo-con.de
END:VEVENT
BEGIN:VEVENT
DTSTART;TZID=Europe/Berlin:20260920T100000
DTEND;TZID=Europe/Berlin:20260920T180000
DTSTAMP:20260421T201618
CREATED:20260417T214629Z
LAST-MODIFIED:20260418T003340Z
UID:10000100-1789898400-1789927200@agramessepark.de
SUMMARY:NEXUS - Nerd Rock Festival 2026
DESCRIPTION:  \n\n\n\nDas NEXUS – Nerd Rock Festival geht in die zweite Runde!!\n🔥 Nerd/Gaming Convention trifft Rock/Metal Festival! 🤘🏻\n \nVom 18. – 20. September 2026 geht das weltweit einzige Nerd-Rock-Festival an den Start. Freut euch wie immer auf 3 Tage vollgestopft mit Rock\, Metal\, Pop Punk\, Gaming\, Cosplay\, Fantasy\, Anime\, uvm.\n \nAuch in 2026 sehen wir uns auf dem agra Messepark Leipzig!\n \nDas erwartet euch:\n🤘 +140 Gaming\, Nerd & Fantasy Aussteller\n🤘 40.000qm Festival Ground (10.000 Indoor\, 30.000 Outdoor)\n🤘 5 Bühnen (Titanium\, Heroes\, Volcano\, 2x Panel)\n🤘 +30 Bands\, Solo- & Indie-Künstler\n🤘 3.200qm voller Gaming (Indies\, P&P\, Tabletop\, Retro & mehr)\n🤘 4.000qm Mittelaltermarkt & Wasteland Area\n🤘 Merch\, Cosplay & Artist Area\n🤘 Alternative\, Rock\, Metal\, Goth Fashion Area\n🤘 New NSFW Area\n🤘 Workshops & Panels\n🤘 Cosplay Champions 2026\n🤘 Special Guests\, Signing Area\, Band Merch & vieles mehr…\n \nLet’s Rock & Game together again next Summer!!\n \nText: Veranstalter
URL:https://agramessepark.de/event/nexus-nerd-rock-festival-2026-leipzig/2026-09-20/
LOCATION:agra Messepark – Gesamtes Gelände\, Bornaische Straße 210\, Leipzig\, Sachsen\, 04279\, Germany
CATEGORIES:alle
ATTACH;FMTTYPE=image/jpeg:https://agramessepark.de/wp-content/uploads/2025/12/531684064_1072106071803925_1559956775648850807_n.jpg
ORGANIZER;CN="OFFLINE Entertainment UG":MAILTO:mail@nexo-con.de
END:VEVENT
END:VCALENDAR