BEGIN:VCALENDAR
VERSION:2.0
PRODID:-//agra Messepark Leipzig - ECPv6.15.20//NONSGML v1.0//EN
CALSCALE:GREGORIAN
METHOD:PUBLISH
X-WR-CALNAME:agra Messepark Leipzig
X-ORIGINAL-URL:https://agramessepark.de
X-WR-CALDESC:Veranstaltungen für agra Messepark Leipzig
REFRESH-INTERVAL;VALUE=DURATION:PT1H
X-Robots-Tag:noindex
X-PUBLISHED-TTL:PT1H
BEGIN:VTIMEZONE
TZID:Europe/Berlin
BEGIN:DAYLIGHT
TZOFFSETFROM:+0100
TZOFFSETTO:+0200
TZNAME:CEST
DTSTART:20250330T010000
END:DAYLIGHT
BEGIN:STANDARD
TZOFFSETFROM:+0200
TZOFFSETTO:+0100
TZNAME:CET
DTSTART:20251026T010000
END:STANDARD
BEGIN:DAYLIGHT
TZOFFSETFROM:+0100
TZOFFSETTO:+0200
TZNAME:CEST
DTSTART:20260329T010000
END:DAYLIGHT
BEGIN:STANDARD
TZOFFSETFROM:+0200
TZOFFSETTO:+0100
TZNAME:CET
DTSTART:20261025T010000
END:STANDARD
BEGIN:DAYLIGHT
TZOFFSETFROM:+0100
TZOFFSETTO:+0200
TZNAME:CEST
DTSTART:20270328T010000
END:DAYLIGHT
BEGIN:STANDARD
TZOFFSETFROM:+0200
TZOFFSETTO:+0100
TZNAME:CET
DTSTART:20271031T010000
END:STANDARD
END:VTIMEZONE
BEGIN:VEVENT
DTSTART;TZID=Europe/Berlin:20261002T100000
DTEND;TZID=Europe/Berlin:20261002T180000
DTSTAMP:20260422T010508
CREATED:20260417T212130Z
LAST-MODIFIED:20260417T212341Z
UID:10000088-1790935200-1790964000@agramessepark.de
SUMMARY:Messe Jagd & Angeln 2026
DESCRIPTION:Die Jagd & Angeln 2026 findet vom 2. bis 4. Oktober im agra Messepark Leipzig statt. \nMehr Informationen demnächst…. \n(Text: Veranstalter)
URL:https://agramessepark.de/event/messe-jagd-angeln-2026/2026-10-02/
LOCATION:agra Messepark – Gesamtes Gelände\, Bornaische Straße 210\, Leipzig\, Sachsen\, 04279\, Germany
CATEGORIES:alle
ATTACH;FMTTYPE=image/jpeg:https://agramessepark.de/wp-content/uploads/2025/07/327182718_750488326102774_5231935165792155921_n.jpg
ORGANIZER;CN="agra Veranstaltungs GmbH":MAILTO:post@agra-messe.de
END:VEVENT
BEGIN:VEVENT
DTSTART;TZID=Europe/Berlin:20261003T100000
DTEND;TZID=Europe/Berlin:20261003T180000
DTSTAMP:20260422T010508
CREATED:20260417T212130Z
LAST-MODIFIED:20260417T212341Z
UID:10000089-1791021600-1791050400@agramessepark.de
SUMMARY:Messe Jagd & Angeln 2026
DESCRIPTION:Die Jagd & Angeln 2026 findet vom 2. bis 4. Oktober im agra Messepark Leipzig statt. \nMehr Informationen demnächst…. \n(Text: Veranstalter)
URL:https://agramessepark.de/event/messe-jagd-angeln-2026/2026-10-03/
LOCATION:agra Messepark – Gesamtes Gelände\, Bornaische Straße 210\, Leipzig\, Sachsen\, 04279\, Germany
CATEGORIES:alle
ATTACH;FMTTYPE=image/jpeg:https://agramessepark.de/wp-content/uploads/2025/07/327182718_750488326102774_5231935165792155921_n.jpg
ORGANIZER;CN="agra Veranstaltungs GmbH":MAILTO:post@agra-messe.de
END:VEVENT
BEGIN:VEVENT
DTSTART;TZID=Europe/Berlin:20261004T100000
DTEND;TZID=Europe/Berlin:20261004T170000
DTSTAMP:20260422T010508
CREATED:20260417T212130Z
LAST-MODIFIED:20260417T212341Z
UID:10000090-1791108000-1791133200@agramessepark.de
SUMMARY:Messe Jagd & Angeln 2026
DESCRIPTION:Die Jagd & Angeln 2026 findet vom 2. bis 4. Oktober im agra Messepark Leipzig statt. \nMehr Informationen demnächst…. \n(Text: Veranstalter)
URL:https://agramessepark.de/event/messe-jagd-angeln-2026/2026-10-04/
LOCATION:agra Messepark – Gesamtes Gelände\, Bornaische Straße 210\, Leipzig\, Sachsen\, 04279\, Germany
CATEGORIES:alle
ATTACH;FMTTYPE=image/jpeg:https://agramessepark.de/wp-content/uploads/2025/07/327182718_750488326102774_5231935165792155921_n.jpg
ORGANIZER;CN="agra Veranstaltungs GmbH":MAILTO:post@agra-messe.de
END:VEVENT
END:VCALENDAR